BEGIN:VCALENDAR
VERSION:2.0
PRODID:-//SchoolAdmission.info - ECPv5.2.1//NONSGML v1.0//EN
CALSCALE:GREGORIAN
METHOD:PUBLISH
X-WR-CALNAME:SchoolAdmission.info
X-ORIGINAL-URL:https://www.schooladmission.info
X-WR-CALDESC:Events for SchoolAdmission.info
BEGIN:VTIMEZONE
TZID:Asia/Kolkata
BEGIN:STANDARD
TZOFFSETFROM:+0530
TZOFFSETTO:+0530
TZNAME:IST
DTSTART:20200101T000000
END:STANDARD
END:VTIMEZONE
BEGIN:VEVENT
DTSTART;TZID=Asia/Kolkata:20201130T153000
DTEND;TZID=Asia/Kolkata:20201130T180000
DTSTAMP:20260426T022837
CREATED:20201114T195539Z
LAST-MODIFIED:20201114T195539Z
UID:1277-1606750200-1606759200@www.schooladmission.info
SUMMARY:High School and Post School Transitions for Autistic Students in 2021
DESCRIPTION:AASE WA and I CAN Network Ltd\, will be partnering to discuss strategies for school and post-school transitions.\n\n\n\nAASE WA and I CAN Network Ltd\, including I CAN CEO/ AASE Patron Chris\, will be partnering to discuss strategies for helping schools and Autistic families to work together to support high school and post-school student transitions into 2021. These strategies will respond to the context of COVID-19 which has elevated anxiety levels and challenged people’s preparedness and organisational skills for these somewhat unstructured\, yet crucial transitions.  \nA recording of the event will be available to people who have registered for one month after the live presentation.
URL:https://www.schooladmission.info/event/high-school-and-post-school-transitions-for-autistic-students-in-2021/
ATTACH;FMTTYPE=image/jpeg:https://www.schooladmission.info/wp-content/uploads/2020/11/1277_image-scaled.jpg
END:VEVENT
END:VCALENDAR